BEGIN:VCALENDAR
VERSION:2.0
PRODID:-//SVP Heimberg //NONSGML Events //EN
CALSCALE:GREGORIAN
X-WR-CALNAME:SVP Heimberg
BEGIN:VEVENT
CREATED:20260422T080548Z
UID:2375
DTEND:20260503T000000
DTSTART:20260424T000000
DTSTAMP:20260423T091018Z
LOCATION:
DESCRIPTION:
SUMMARY:BEA
ORGANIZER:
URL;VALUE=URI:https://www.svp-heimberg.ch/termine/bea-3/
TRANSP:OPAQUE
END:VEVENT
END:VCALENDAR
