BEGIN:VCALENDAR
VERSION:2.0
PRODID:-//SVP Heimberg //NONSGML Events //EN
CALSCALE:GREGORIAN
X-WR-CALNAME:SVP Heimberg
BEGIN:VEVENT
CREATED:20250930T071129Z
UID:2154
DTEND:20251018T130000
DTSTART:20251018T080000
DTSTAMP:20260422T085608Z
LOCATION:Vor dem Coop beim Ziegeleimärit Zollikofen
DESCRIPTION:
SUMMARY:SVP Zollikofen &#8211\; Gmüesmärit
ORGANIZER:
URL;VALUE=URI:https://www.svp-heimberg.ch/termine/svp-zollikofen-gmueesmaerit-3/
TRANSP:OPAQUE
END:VEVENT
END:VCALENDAR
