BEGIN:VCALENDAR
VERSION:2.0
PRODID:-//SVP Heimberg //NONSGML Events //EN
CALSCALE:GREGORIAN
X-WR-CALNAME:SVP Heimberg
BEGIN:VEVENT
CREATED:20240918T071054Z
UID:1819
DTEND:20250329T000000
DTSTART:20250329T000000
DTSTAMP:20260423T072744Z
LOCATION:Waadt
DESCRIPTION:
SUMMARY:Delegiertenversammlung SVP Schweiz
ORGANIZER:
URL;VALUE=URI:https://www.svp-heimberg.ch/termine/delegiertenversammlung-svp-schweiz-13/
TRANSP:OPAQUE
END:VEVENT
END:VCALENDAR
